BEGIN:VCALENDAR
VERSION:2.0
PRODID:icalendar-ruby
CALSCALE:GREGORIAN
METHOD:PUBLISH
BEGIN:VEVENT
DTSTAMP:20260422T224728Z
UID:9-1426029@progresschurch.com
DTSTART:20261011T140000Z
DTEND:20261011T160000Z
CLASS:PUBLIC
CREATED:20260422T162559
DESCRIPTION:Ministry for children ages 3-12 years during our Sunday service
 s (after praise and worship).
LAST-MODIFIED:20260422T162559
LOCATION:Progress Church
SUMMARY:Children's Church 
URL;VALUE=URI:https://www.progresschurch.com/events/childrens-church/2026-1
 0-11
END:VEVENT
END:VCALENDAR
