BEGIN:VCALENDAR
VERSION:2.0
PRODID:icalendar-ruby
CALSCALE:GREGORIAN
METHOD:PUBLISH
BEGIN:VEVENT
DTSTAMP:20260423T004216Z
UID:9-1427068@progresschurch.com
DTSTART:20261018T140000Z
DTEND:20261018T160000Z
CLASS:PUBLIC
CREATED:20260422T191836
DESCRIPTION:Ministry for children ages 3-12 years during our Sunday service
 s (after praise and worship).
LAST-MODIFIED:20260422T191836
LOCATION:Progress Church
SUMMARY:Children's Church 
URL;VALUE=URI:https://www.progresschurch.com/events/childrens-church/2026-1
 0-18
END:VEVENT
END:VCALENDAR
